BEGIN:VCALENDAR
VERSION:2.0
PRODID:-//DAV-Portugal - ECPv6.15.14//NONSGML v1.0//EN
CALSCALE:GREGORIAN
METHOD:PUBLISH
X-ORIGINAL-URL:https://dav-portugal.net
X-WR-CALDESC:Veranstaltungen für DAV-Portugal
REFRESH-INTERVAL;VALUE=DURATION:PT1H
X-Robots-Tag:noindex
X-PUBLISHED-TTL:PT1H
BEGIN:VTIMEZONE
TZID:Europe/Berlin
BEGIN:DAYLIGHT
TZOFFSETFROM:+0100
TZOFFSETTO:+0200
TZNAME:CEST
DTSTART:20230326T010000
END:DAYLIGHT
BEGIN:STANDARD
TZOFFSETFROM:+0200
TZOFFSETTO:+0100
TZNAME:CET
DTSTART:20231029T010000
END:STANDARD
BEGIN:DAYLIGHT
TZOFFSETFROM:+0100
TZOFFSETTO:+0200
TZNAME:CEST
DTSTART:20240331T010000
END:DAYLIGHT
BEGIN:STANDARD
TZOFFSETFROM:+0200
TZOFFSETTO:+0100
TZNAME:CET
DTSTART:20241027T010000
END:STANDARD
BEGIN:DAYLIGHT
TZOFFSETFROM:+0100
TZOFFSETTO:+0200
TZNAME:CEST
DTSTART:20250330T010000
END:DAYLIGHT
BEGIN:STANDARD
TZOFFSETFROM:+0200
TZOFFSETTO:+0100
TZNAME:CET
DTSTART:20251026T010000
END:STANDARD
END:VTIMEZONE
BEGIN:VEVENT
DTSTART;TZID=Europe/Berlin:20240209T120000
DTEND;TZID=Europe/Berlin:20240209T150000
DTSTAMP:20260419T213726
CREATED:20240124T092922Z
LAST-MODIFIED:20240124T140454Z
UID:2517-1707480000-1707490800@dav-portugal.net
SUMMARY:Mitgliederversammlung DAV Portugal
DESCRIPTION:Mitgliederversammlung des DAV Portugal\n\nAm 9.2.2024 in erster Einberufung um 12:00 Uhr\, und in zweiter Einberufung um 12:30 Uhr geladen. \nDie Versammlung findet in Präsenzform am Sitz des Vereins statt\, mit der Möglichkeit der Teilnahme über Zoom. \nTagesordnungspunkte: \n1. Jahresabschluss 2023\n2. Budget 2024\n3. DAV Portugal Veranstaltungen 2024\n4. Verschiedenes
URL:https://dav-portugal.net/event/mitgliederversammlung-dav-portugal/
LOCATION:DAV Portugal\, Rua Castilho 1- 5º Esq.\, 1250-066 Lisboa\, Portugal
CATEGORIES:DAV-Portugal,Mitgliederversammlung
ATTACH;FMTTYPE=image/jpeg:https://dav-portugal.net/wp-content/uploads/2022/11/HomeBildBeitrag1200x800.jpg
END:VEVENT
END:VCALENDAR